BEGIN:VCALENDAR
VERSION:2.0
PRODID:-//APMS Conference - ECPv6.15.20//NONSGML v1.0//EN
CALSCALE:GREGORIAN
METHOD:PUBLISH
X-ORIGINAL-URL:https://www.apms-conference.org
X-WR-CALDESC:Events for APMS Conference
REFRESH-INTERVAL;VALUE=DURATION:PT1H
X-Robots-Tag:noindex
X-PUBLISHED-TTL:PT1H
BEGIN:VTIMEZONE
TZID:UTC
BEGIN:STANDARD
TZOFFSETFROM:+0000
TZOFFSETTO:+0000
TZNAME:UTC
DTSTART:20170101T000000
END:STANDARD
END:VTIMEZONE
BEGIN:VTIMEZONE
TZID:UTC
BEGIN:STANDARD
TZOFFSETFROM:+0000
TZOFFSETTO:+0000
TZNAME:UTC
DTSTART:20160101T000000
END:STANDARD
END:VTIMEZONE
BEGIN:VEVENT
DTSTART;VALUE=DATE:20180826
DTEND;VALUE=DATE:20180831
DTSTAMP:20260421T130920
CREATED:20170721T043407Z
LAST-MODIFIED:20171220T200429Z
UID:2328-1535241600-1535673599@www.apms-conference.org
SUMMARY:APMS 2018 International Conference
DESCRIPTION:The objectives of the APMS 2018 conference are: (1) to share up-to-date issues and knowledge of production management among leading experts from academia and industry\, (2) to disseminate research papers\, case studies\, and state-of-the-arts report on production management\, and (3) to provide guidelines\, and insights to pave the way for future manufacturing systems.
URL:https://www.apms-conference.org/event/2018-annual-conference/
LOCATION:Seoul National University\, 1 Gwanak-ro\, Gwanak-gu\, Seoul\, Korea\, Republic of
CATEGORIES:Production management,Technology
END:VEVENT
BEGIN:VEVENT
DTSTART;VALUE=DATE:20170903
DTEND;VALUE=DATE:20170908
DTSTAMP:20260421T130920
CREATED:20170721T043407Z
LAST-MODIFIED:20171206T170246Z
UID:937-1504396800-1504828799@www.apms-conference.org
SUMMARY:APMS 2017 International Conference
DESCRIPTION:Advances in production Management Systems\nThe path to intelligent\, collaborative and sustainable manufacturing \nSeptember 3rd-7th\, Hamburg\, Germany \n 
URL:https://www.apms-conference.org/event/2018-annul-conferenceinspired-ux-design/
LOCATION:Hamburg\, Germany
CATEGORIES:Technology
ATTACH;FMTTYPE=image/png:https://www.apms-conference.org/wp-content/uploads/2017/07/blog3.png
END:VEVENT
END:VCALENDAR